View In:
ArcGIS JavaScript
ArcGIS Online Map Viewer
ArcGIS Earth
ArcMap
View Footprint In:
ArcGIS Online Map Viewer
Service Description: Bannock County Imagery 6" and 9" resolution in November 2020, by EagleView/Pictometry. Cature area includes most of Bannock County, excepting Federal lands.
Name: ImageServices/2020Pictometry
Description: Bannock County Imagery 6" and 9" resolution in November 2020, by EagleView/Pictometry. Cature area includes most of Bannock County, excepting Federal lands.
Single Fused Map Cache: false
Extent:
XMin: 535707.5
YMin: 213034.5
XMax: 732543.5
YMax: 498280.5
Spatial Reference: 102668
(2241)
LatestVCSWkid(0)
Initial Extent:
XMin: 535707.5
YMin: 213034.5
XMax: 732543.5
YMax: 498280.5
Spatial Reference: 102668
(2241)
LatestVCSWkid(0)
Full Extent:
XMin: 535707.5
YMin: 213034.5
XMax: 732543.5
YMax: 498280.5
Spatial Reference: 102668
(2241)
LatestVCSWkid(0)
Pixel Size X: 0.5
Pixel Size Y: 0.5
Band Count: 3
Pixel Type: U8
RasterFunction Infos: {"rasterFunctionInfos": [{
"name": "None",
"description": "",
"help": ""
}]}
Mensuration Capabilities: Basic
Has Histograms: true
Has Colormap: false
Has Multi Dimensions : false
Rendering Rule:
Min Scale: 0
Max Scale: 0
Copyright Text: EagleView, Bannock County
Service Data Type: esriImageServiceDataTypeRGB
Min Values: 38, 50, 45
Max Values: 255, 255, 255
Mean Values: 204.26239067055, 196.83935860058, 187.8055393586
Standard Deviation Values: 59.804350223499, 67.018900964348, 77.006635764866
Object ID Field:
Fields:
None
Default Mosaic Method: Center
Allowed Mosaic Methods:
SortField:
SortValue: null
Mosaic Operator: First
Default Compression Quality: 75
Default Resampling Method: Bilinear
Max Record Count: null
Max Image Height: 4100
Max Image Width: 15000
Max Download Image Count: null
Max Mosaic Image Count: null
Allow Raster Function: true
Allow Copy: null
Allow Analysis: null
Allow Compute TiePoints: false
Supports Statistics: false
Supports Advanced Queries: false
Use StandardizedQueries: true
Raster Type Infos:
Name: Raster Dataset
Description: Supports all ArcGIS Raster Datasets
Help:
Has Raster Attribute Table: false
Edit Fields Info: null
Ownership Based AccessControl For Rasters: null
Child Resources:
Info
Histograms
Key Properties
Legend
Raster Function Infos
Supported Operations:
Export Image
Identify
Measure
Compute Histograms
Compute Statistics Histograms
Get Samples
Compute Class Statistics
Query Boundary
Compute Pixel Location
Compute Angles
Validate
Project