{
 "currentVersion": 10.91,
 "serviceDescription": "Bannock County Imagery 6\" and 9\" resolution in November 2020, by EagleView/Pictometry. Cature area includes most of Bannock County, excepting Federal lands.",
 "name": "ImageServices/2020Pictometry",
 "description": "Bannock County Imagery 6\" and 9\" resolution in November 2020, by EagleView/Pictometry. Cature area includes most of Bannock County, excepting Federal lands.",
 "extent": {
  "xmin": 535707.5,
  "ymin": 213034.5,
  "xmax": 732543.5,
  "ymax": 498280.5,
  "spatialReference": {
   "wkid": 102668,
   "latestWkid": 2241
  }
 },
 "initialExtent": {
  "xmin": 535707.5,
  "ymin": 213034.5,
  "xmax": 732543.5,
  "ymax": 498280.5,
  "spatialReference": {
   "wkid": 102668,
   "latestWkid": 2241
  }
 },
 "fullExtent": {
  "xmin": 535707.5,
  "ymin": 213034.5,
  "xmax": 732543.5,
  "ymax": 498280.5,
  "spatialReference": {
   "wkid": 102668,
   "latestWkid": 2241
  }
 },
 "pixelSizeX": 0.5,
 "pixelSizeY": 0.5,
 "bandCount": 3,
 "pixelType": "U8",
 "minPixelSize": 0,
 "maxPixelSize": 0,
 "copyrightText": "EagleView, Bannock County",
 "serviceDataType": "esriImageServiceDataTypeRGB",
 "minValues": [
  38,
  50,
  45
 ],
 "maxValues": [
  255,
  255,
  255
 ],
 "meanValues": [
  204.26239067055,
  196.83935860058,
  187.8055393586
 ],
 "stdvValues": [
  59.804350223499,
  67.018900964348,
  77.006635764866
 ],
 "objectIdField": "",
 "fields": [],
 "capabilities": "Image,Metadata,Mensuration",
 "defaultMosaicMethod": "Center",
 "allowedMosaicMethods": "",
 "sortField": "",
 "sortValue": null,
 "sortAscending": true,
 "mosaicOperator": "First",
 "defaultCompressionQuality": 75,
 "defaultResamplingMethod": "Bilinear",
 "maxImageHeight": 4100,
 "maxImageWidth": 15000,
 "allowRasterFunction": true,
 "rasterFunctionInfos": [
  {
   "name": "None",
   "description": "",
   "help": ""
  }
 ],
 "rasterTypeInfos": [
  {
   "name": "Raster Dataset",
   "description": "Supports all ArcGIS Raster Datasets",
   "help": ""
  }
 ],
 "mensurationCapabilities": "Basic",
 "hasHistograms": true,
 "hasColormap": false,
 "hasRasterAttributeTable": false,
 "minScale": 0,
 "maxScale": 0,
 "exportTilesAllowed": false,
 "hasMultidimensions": false,
 "supportsStatistics": false,
 "supportsAdvancedQueries": false,
 "editFieldsInfo": null,
 "ownershipBasedAccessControlForRasters": null,
 "allowComputeTiePoints": false,
 "useStandardizedQueries": true,
 "advancedQueryCapabilities": {
  "useStandardizedQueries": true,
  "supportsStatistics": false,
  "supportsOrderBy": false,
  "supportsDistinct": false,
  "supportsPagination": false
 },
 "spatialReference": {
  "wkid": 102668,
  "latestWkid": 2241
 }
}
