{
 "currentVersion": 10.91,
 "serviceDescription": "Bannock County Imagery 6\" and 9\" resolution in April and May 2018, by EagleView/Pictometry. Cature area does not include the whole county, but focused on the most populated areas.",
 "name": "ImageServices/2018_Pictometry",
 "description": "Bannock County Imagery 6\" and 9\" resolution in April and May 2018, by EagleView/Pictometry. Cature area does not include the whole county, but focused on the most populated areas.",
 "extent": {
  "xmin": 535707.75,
  "ymin": 302736,
  "xmax": 721505.25,
  "ymax": 498280.5,
  "spatialReference": {
   "wkid": 102668,
   "latestWkid": 2241
  }
 },
 "initialExtent": {
  "xmin": 535707.75,
  "ymin": 302736,
  "xmax": 721505.25,
  "ymax": 498280.5,
  "spatialReference": {
   "wkid": 102668,
   "latestWkid": 2241
  }
 },
 "fullExtent": {
  "xmin": 535707.75,
  "ymin": 302736,
  "xmax": 721505.25,
  "ymax": 498280.5,
  "spatialReference": {
   "wkid": 102668,
   "latestWkid": 2241
  }
 },
 "pixelSizeX": 0.5,
 "pixelSizeY": 0.5,
 "bandCount": 3,
 "pixelType": "U8",
 "minPixelSize": 0,
 "maxPixelSize": 0,
 "copyrightText": "EagleView, Bannock County",
 "serviceDataType": "esriImageServiceDataTypeRGB",
 "minValues": [
  5,
  27,
  0
 ],
 "maxValues": [
  255,
  255,
  255
 ],
 "meanValues": [
  218.94951923077,
  216.7309981685,
  208.04326923077
 ],
 "stdvValues": [
  56.515404333391,
  59.157924319651,
  71.903466368173
 ],
 "objectIdField": "",
 "fields": [],
 "capabilities": "Image,Metadata,Mensuration",
 "defaultMosaicMethod": "Center",
 "allowedMosaicMethods": "",
 "sortField": "",
 "sortValue": null,
 "sortAscending": true,
 "mosaicOperator": "First",
 "defaultCompressionQuality": 75,
 "defaultResamplingMethod": "Bilinear",
 "maxImageHeight": 4100,
 "maxImageWidth": 15000,
 "allowRasterFunction": true,
 "rasterFunctionInfos": [
  {
   "name": "None",
   "description": "",
   "help": ""
  }
 ],
 "rasterTypeInfos": [
  {
   "name": "Raster Dataset",
   "description": "Supports all ArcGIS Raster Datasets",
   "help": ""
  }
 ],
 "mensurationCapabilities": "Basic",
 "hasHistograms": true,
 "hasColormap": false,
 "hasRasterAttributeTable": false,
 "minScale": 0,
 "maxScale": 0,
 "exportTilesAllowed": false,
 "hasMultidimensions": false,
 "supportsStatistics": false,
 "supportsAdvancedQueries": false,
 "editFieldsInfo": null,
 "ownershipBasedAccessControlForRasters": null,
 "allowComputeTiePoints": false,
 "useStandardizedQueries": true,
 "advancedQueryCapabilities": {
  "useStandardizedQueries": true,
  "supportsStatistics": false,
  "supportsOrderBy": false,
  "supportsDistinct": false,
  "supportsPagination": false
 },
 "spatialReference": {
  "wkid": 102668,
  "latestWkid": 2241
 }
}
